BEGIN:VCALENDAR
VERSION:2.0
PRODID:-//www.bgchawthorne.org//NONSGML kigkonsult.se iCalcreator 2.30.10//
CALSCALE:GREGORIAN
METHOD:PUBLISH
UID:7fe248cb-535e-41fc-bc4f-286506fcfab5
X-WR-CALDESC:Join us for a Kids Night Out Event for members and non-members
  in grades 3rd-5th grade on Friday\, May 8th.  Bring a friend and come to 
 the Club to play ping pong\, air hockey\, crafts\, gym games\, tournaments
  and more!  Pre-register and hold your spot today!  $5 at the door on the 
 night of the event.
X-WR-RELCALID:258dfa4c9552cd4fad60d2689c201bab
X-WR-TIMEZONE:America/Chicago
BEGIN:VTIMEZONE
TZID:America/Chicago
BEGIN:STANDARD
TZNAME:CST
DTSTART:20251102T020000
TZOFFSETFROM:-0500
TZOFFSETTO:-0600
RDATE:20261101T020000
RDATE:20271107T020000
END:STANDARD
BEGIN:DAYLIGHT
TZNAME:CDT
DTSTART:20260308T020000
TZOFFSETFROM:-0600
TZOFFSETTO:-0500
RDATE:20270314T020000
END:DAYLIGHT
END:VTIMEZONE
BEGIN:VEVENT
UID:925444e3-d80b-456a-a6f9-96a98cb1db1c
DTSTAMP:20260424T014147Z
DESCRIPTION:Join us for a Kids Night Out Event for members and non-members 
 in grades 3rd-5th grade on Friday\, May 8th.  Bring a friend and come to t
 he Club to play ping pong\, air hockey\, crafts\, gym games\, tournaments 
 and more!  Pre-register and hold your spot today!  $5 at the door on the n
 ight of the event.
DTSTART;TZID=America/Chicago:20260508T183000
DTEND;TZID=America/Chicago:20260508T203000
LOCATION:1 Downes Way\, Hawthorne\, NJ 07506 US
SUMMARY:Kids Night Out (3rd-5th)
END:VEVENT
END:VCALENDAR
